BEGIN:VCALENDAR
VERSION:2.0
PRODID:-//J Street: The Art of the Possible - ECPv4.2.6//NONSGML v1.0//EN
CALSCALE:GREGORIAN
METHOD:PUBLISH
X-WR-CALNAME:J Street: The Art of the Possible
X-ORIGINAL-URL:http://artofthepossibledoc.com
X-WR-CALDESC:Events for J Street: The Art of the Possible
BEGIN:VEVENT
DTSTART;TZID=UTC+0:20150326T100000
DTEND;TZID=UTC+0:20150529T230000
DTSTAMP:20260423T173006
CREATED:20150114T165421
LAST-MODIFIED:20150217T152331
UID:522-1427364000-1432940400@artofthepossibledoc.com
SUMMARY:American Documentary Film Festival
DESCRIPTION:Palm Springs\, CA. Details coming soon. http://www.americandocumentaryfilmfestival.com/
URL:http://artofthepossibledoc.com/screening/american-documentary-film-festival/
LOCATION:Palm Springs\, CA\, United States
END:VEVENT
END:VCALENDAR