BEGIN:VCALENDAR
VERSION:2.0
PRODID:-//J Street: The Art of the Possible - ECPv4.2.6//NONSGML v1.0//EN
CALSCALE:GREGORIAN
METHOD:PUBLISH
X-WR-CALNAME:J Street: The Art of the Possible
X-ORIGINAL-URL:http://artofthepossibledoc.com
X-WR-CALDESC:Events for J Street: The Art of the Possible
BEGIN:VEVENT
DTSTART;TZID=UTC+0:20141111T203000
DTEND;TZID=UTC+0:20141111T230000
DTSTAMP:20260423T171808
CREATED:20141031T185113
LAST-MODIFIED:20141031T185113
UID:483-1415737800-1415746800@artofthepossibledoc.com
SUMMARY:Columbia University
DESCRIPTION:Post-screening discussion with filmmaker and special guests.
URL:http://artofthepossibledoc.com/screening/columbia-university/
LOCATION:116th St & Broadway\, New York\, NY\, 10027\, United States
END:VEVENT
END:VCALENDAR