BEGIN:VCALENDAR
VERSION:2.0
PRODID:-//J Street: The Art of the Possible - ECPv4.2.6//NONSGML v1.0//EN
CALSCALE:GREGORIAN
METHOD:PUBLISH
X-WR-CALNAME:J Street: The Art of the Possible
X-ORIGINAL-URL:http://artofthepossibledoc.com
X-WR-CALDESC:Events for J Street: The Art of the Possible
BEGIN:VEVENT
DTSTART;TZID=UTC+0:20150920T033000
DTEND;TZID=UTC+0:20150920T163000
DTSTAMP:20260423T171722
CREATED:20150818T211536
LAST-MODIFIED:20150908T164851
UID:539-1442719800-1442766600@artofthepossibledoc.com
SUMMARY:Newburyport Documentary Film Festival
DESCRIPTION:The filmmakers will be in attendance. Details coming soon. http://newburyportfilmfestival.org
URL:http://artofthepossibledoc.com/screening/newburyport-documentary-film-festival/
LOCATION:1 Market Square\, Newburyport\, MA\, 01950\, United States
END:VEVENT
END:VCALENDAR