BEGIN:VCALENDAR
VERSION:2.0
PRODID:-//J Street: The Art of the Possible - ECPv4.2.6//NONSGML v1.0//EN
CALSCALE:GREGORIAN
METHOD:PUBLISH
X-WR-CALNAME:J Street: The Art of the Possible
X-ORIGINAL-URL:http://artofthepossibledoc.com
X-WR-CALDESC:Events for J Street: The Art of the Possible
BEGIN:VEVENT
DTSTART;TZID=UTC+0:20150420T070000
DTEND;TZID=UTC+0:20150420T210000
DTSTAMP:20260423T175521
CREATED:20150410T205941
LAST-MODIFIED:20150410T211859
UID:531-1429513200-1429563600@artofthepossibledoc.com
SUMMARY:Philadelphia Independent Film Festival
DESCRIPTION:Monday\, April 20th at 7:00 pm\nLocation: Gershman Y\nTickets: http://bit.ly/JStreetTix\nFilmmaker Ken Winikur in attendance
URL:http://artofthepossibledoc.com/screening/philadelphia-independent-film-festival/
LOCATION:401 S Broad St\, Philadelphia\, 19147\, United States
END:VEVENT
END:VCALENDAR