BEGIN:VCALENDAR
VERSION:2.0
PRODID:-//J Street: The Art of the Possible - ECPv4.2.6//NONSGML v1.0//EN
CALSCALE:GREGORIAN
METHOD:PUBLISH
X-WR-CALNAME:J Street: The Art of the Possible
X-ORIGINAL-URL:http://artofthepossibledoc.com
X-WR-CALDESC:Events for J Street: The Art of the Possible
BEGIN:VEVENT
DTSTART;TZID=UTC+0:20141112T190000
DTEND;TZID=UTC+0:20141112T220000
DTSTAMP:20260423T173426
CREATED:20141007T155149
LAST-MODIFIED:20141007T155149
UID:447-1415818800-1415829600@artofthepossibledoc.com
SUMMARY:Syracuse University
DESCRIPTION:Presented by LIME in the Kittredge Auditorium of Huntington Beard Crouse Hall. More details coming soon.
URL:http://artofthepossibledoc.com/screening/syracuse-university/
LOCATION:Huntington Beard Crouse Hall\, Syracuse\, NY\, 13210\, United States
END:VEVENT
END:VCALENDAR